BEGIN:VCALENDAR
VERSION:2.0
PRODID:-//Pure Team Global - ECPv6.15.17//NONSGML v1.0//EN
CALSCALE:GREGORIAN
METHOD:PUBLISH
X-WR-CALNAME:Pure Team Global
X-ORIGINAL-URL:https://www.pureteamglobal.com
X-WR-CALDESC:Events for Pure Team Global
REFRESH-INTERVAL;VALUE=DURATION:PT1H
X-Robots-Tag:noindex
X-PUBLISHED-TTL:PT1H
BEGIN:VTIMEZONE
TZID:America/New_York
BEGIN:DAYLIGHT
TZOFFSETFROM:-0500
TZOFFSETTO:-0400
TZNAME:EDT
DTSTART:20250309T070000
END:DAYLIGHT
BEGIN:STANDARD
TZOFFSETFROM:-0400
TZOFFSETTO:-0500
TZNAME:EST
DTSTART:20251102T060000
END:STANDARD
BEGIN:DAYLIGHT
TZOFFSETFROM:-0500
TZOFFSETTO:-0400
TZNAME:EDT
DTSTART:20260308T070000
END:DAYLIGHT
BEGIN:STANDARD
TZOFFSETFROM:-0400
TZOFFSETTO:-0500
TZNAME:EST
DTSTART:20261101T060000
END:STANDARD
BEGIN:DAYLIGHT
TZOFFSETFROM:-0500
TZOFFSETTO:-0400
TZNAME:EDT
DTSTART:20270314T070000
END:DAYLIGHT
BEGIN:STANDARD
TZOFFSETFROM:-0400
TZOFFSETTO:-0500
TZNAME:EST
DTSTART:20271107T060000
END:STANDARD
END:VTIMEZONE
BEGIN:VEVENT
DTSTART;TZID=America/New_York:20260204T130000
DTEND;TZID=America/New_York:20260204T140000
DTSTAMP:20260421T194952
CREATED:20260113T003303Z
LAST-MODIFIED:20260113T003303Z
UID:805156-1770210000-1770213600@www.pureteamglobal.com
SUMMARY:Pure Business Coaching with Jared Burnett
DESCRIPTION:
URL:https://www.pureteamglobal.com/event/pure-business-coaching-with-jared-burnett/
LOCATION:Zoom\, www.ptg.live
CATEGORIES:Monthly
END:VEVENT
BEGIN:VEVENT
DTSTART;TZID=America/New_York:20260118T110000
DTEND;TZID=America/New_York:20260118T120000
DTSTAMP:20260421T194952
CREATED:20260113T003014Z
LAST-MODIFIED:20260113T003014Z
UID:805152-1768734000-1768737600@www.pureteamglobal.com
SUMMARY:Saturday Training Calls
DESCRIPTION:
URL:https://www.pureteamglobal.com/event/saturday-training-calls/
LOCATION:Zoom\, www.ptg.live
CATEGORIES:Weekly Event
END:VEVENT
BEGIN:VEVENT
DTSTART;TZID=America/New_York:20260115T210000
DTEND;TZID=America/New_York:20260115T213000
DTSTAMP:20260421T194952
CREATED:20260113T002757Z
LAST-MODIFIED:20260113T002757Z
UID:805150-1768510800-1768512600@www.pureteamglobal.com
SUMMARY:Thursday Night Overview
DESCRIPTION:
URL:https://www.pureteamglobal.com/event/thursday-night-overview/
LOCATION:Zoom\, www.ptg.live
CATEGORIES:Weekly Event
END:VEVENT
BEGIN:VEVENT
DTSTART;TZID=America/New_York:20260113T200000
DTEND;TZID=America/New_York:20260113T203000
DTSTAMP:20260421T194952
CREATED:20260113T002000Z
LAST-MODIFIED:20260113T002004Z
UID:805146-1768334400-1768336200@www.pureteamglobal.com
SUMMARY:Tuesday Night Overview
DESCRIPTION:
URL:https://www.pureteamglobal.com/event/tuesday-night-overview/
LOCATION:Zoom\, www.ptg.live
CATEGORIES:Weekly Event
END:VEVENT
END:VCALENDAR